BEGIN:VCALENDAR
VERSION:2.0
PRODID:-//Wellington Youth Sailing Scheme - ECPv5.3.1.1//NONSGML v1.0//EN
CALSCALE:GREGORIAN
METHOD:PUBLISH
X-WR-CALNAME:Wellington Youth Sailing Scheme
X-ORIGINAL-URL:https://youthyachtingscheme.org.nz
X-WR-CALDESC:Events for Wellington Youth Sailing Scheme
BEGIN:VTIMEZONE
TZID:UTC
BEGIN:STANDARD
TZOFFSETFROM:+0000
TZOFFSETTO:+0000
TZNAME:UTC
DTSTART:20210101T000000
END:STANDARD
END:VTIMEZONE
BEGIN:VEVENT
DTSTART;TZID=UTC:20210324T080000
DTEND;TZID=UTC:20210328T170000
DTSTAMP:20210119T041147
CREATED:20210115T064924Z
LAST-MODIFIED:20210115T064924Z
UID:1787-1616572800-1616950800@youthyachtingscheme.org.nz
SUMMARY:CentrePort
DESCRIPTION:CentrePort
URL:https://youthyachtingscheme.org.nz/event/centreport/
LOCATION:Royal Port Nicholson Yacht Club\, 103 Oriental Parade\, Wellington\, New Zealand
ORGANIZER;CN="Wellington%20Youth%20Sailing%20Trust%20%28WYST%29":MAILTO:youth.scheme@rpnyc.org.nz.
END:VEVENT
END:VCALENDAR